BEGIN:VCALENDAR
VERSION:2.0
PRODID:-//Northern Worcester County Landlord Association - ECPv6.15.20//NONSGML v1.0//EN
CALSCALE:GREGORIAN
METHOD:PUBLISH
X-ORIGINAL-URL:https://nwcla.com
X-WR-CALDESC:Events for Northern Worcester County Landlord Association
REFRESH-INTERVAL;VALUE=DURATION:PT1H
X-Robots-Tag:noindex
X-PUBLISHED-TTL:PT1H
BEGIN:VTIMEZONE
TZID:UTC
BEGIN:STANDARD
TZOFFSETFROM:+0000
TZOFFSETTO:+0000
TZNAME:UTC
DTSTART:20200101T000000
END:STANDARD
END:VTIMEZONE
BEGIN:VEVENT
DTSTART;TZID=UTC:20220609T190000
DTEND;TZID=UTC:20220609T210000
DTSTAMP:20260422T101355
CREATED:20220124T123701Z
LAST-MODIFIED:20220302T210135Z
UID:4440-1654801200-1654808400@nwcla.com
SUMMARY:Investing in Solar: Bright Ideas for Landlords
DESCRIPTION:Join us for our monthly meeting\, this month we will hear from Critical Mass Solar. Learn about the benefits of solar and how they can be applied to your investment properties. \nCritical Mass Solar is a Massachusetts-based company that provides experienced solar panel installation at competitive rates. From acquisition to installation and implementation\, their goal is to support their customers\, in achieving financial independence in regard to utility costs\, while simultaneously promoting environmental sustainability. It’s in this that Critical Mass Solar empowers their customers to take control of their energy utilization while fostering a cleaner carbon footprint\, which makes for a better environment for our children and their children. \nMeetings are open to the public! In-person tickets are $20. Zoom tickets are $10. Zoom meeting information will be provided the day of the event. Become a member and the annual dues pay for all 10 meetings a year! \nTickets:  masslandlords.net/events \nPublic:   Anyone on or off Facebook
URL:https://nwcla.com/event/investing-in-solar/
LOCATION:British American Club
CATEGORIES:Energy Savings,Meeting,Topics
END:VEVENT
BEGIN:VEVENT
DTSTART;TZID=UTC:20220414T190000
DTEND;TZID=UTC:20220414T210000
DTSTAMP:20260422T101355
CREATED:20220124T124255Z
LAST-MODIFIED:20220124T125834Z
UID:4442-1649962800-1649970000@nwcla.com
SUMMARY:Massachusetts State Police: Tips For Landlords
DESCRIPTION:Join us\, this month we will hear from the Massachusetts State Police Narcotics Section. Learn about common signs of drug activity and how to prevent them at your properties. \nMeetings are open to the public! In-person tickets are $20. Zoom tickets are $10. Zoom meeting information will be provided the day of the event. Become a member and the annual dues pay for all 10 meetings a year! \nTickets:  masslandlords.net/events \nPublic:   Anyone on or off Facebook
URL:https://nwcla.com/event/massachusetts-state-police-tips-for-landlords/
LOCATION:British American Club
CATEGORIES:Meeting,Topics
END:VEVENT
BEGIN:VEVENT
DTSTART;TZID=UTC:20220310T190000
DTEND;TZID=UTC:20220310T210000
DTSTAMP:20260422T101355
CREATED:20220302T210748Z
LAST-MODIFIED:20220302T212428Z
UID:4626-1646938800-1646946000@nwcla.com
SUMMARY:Financial Concepts and Investing Strategies
DESCRIPTION:Join us\, this month we will hear from Derek Fairchild\, a financial advisor with Baystate Financial. Learn tips\, tricks\, and a new perspective on how to achieve your investing goals. \nMeetings are open to the public! In-person tickets are $20. Zoom tickets are $10. Zoom meeting information will be provided the day of the event. Become a member and the annual dues pay for all 10 meetings a year! \nTickets: masslandlords.net/events \nPublic:   Anyone on or off Facebook
URL:https://nwcla.com/event/financial-concepts-and-investing-strategies/
LOCATION:British American Club
CATEGORIES:Financial,Investments,Meeting,Topics
END:VEVENT
BEGIN:VEVENT
DTSTART;TZID=UTC:20220210T070000
DTEND;TZID=UTC:20220210T210000
DTSTAMP:20260422T101355
CREATED:20220124T122059Z
LAST-MODIFIED:20220124T125757Z
UID:4432-1644476400-1644526800@nwcla.com
SUMMARY:RAFT: What You Need to Know
DESCRIPTION:Join us\, this month we will hear from the Central Massachusetts Housing Alliance (CMHA) to receive training on Residential Assistance for Families in Transition (RAFT). Learn about the services CMHA provides\, how to apply and what you need in order to get the rent paid. \nRecognizing the dignity of all\, CMHA leads a collaborative response to homelessness that fosters long-term housing stability through prevention\, quality services\, education and advocacy. \nMeetings are open to the public! In-person tickets are $20. Zoom tickets are $10. Zoom meeting information will be provided the day of the event. Become a member and the annual dues pay for all 10 meetings a year! \nTickets:  masslandlords.net/events \nPublic:   Anyone on or off Facebook
URL:https://nwcla.com/event/raft-what-you-need-to-know/
LOCATION:British American Club
CATEGORIES:Meeting,Rental Assistance,Topics
END:VEVENT
BEGIN:VEVENT
DTSTART;TZID=UTC:20211111T190000
DTEND;TZID=UTC:20211111T210000
DTSTAMP:20260422T101355
CREATED:20211117T011540Z
LAST-MODIFIED:20220124T125656Z
UID:4128-1636657200-1636664400@nwcla.com
SUMMARY:Mind Your Business!
DESCRIPTION:Join us for our monthly meeting\, this month we will hear from speaker and platinum sponsor\, Brian Lucier\, of Belaire Property Management LLC. \nBring a pad of paper and come prepared to get down to business! Our November Monthly Meeting will feature Brian Lucier of Belaire Property Management. Managing your maintenance is one of the biggest headaches for landlords. Brian will peel back the curtain to reveal a better way to create workflows that keep residents\, vendors\, and the landlords\, happy with the process. We will also explore other free avenues to track your rental repairs. Finally\, Brian will conclude his presentation with a trailing 12-month review of rental markets. What you will learn is not so much what you may expect. Which types of rentals are outperforming others\, and in what markets are the largest opportunities for growth in Northern Worcester County? \nMeetings are open to the public! In-person tickets are $20. Zoom tickets are $10. Zoom meeting information will be provided the day of the event. Become a member and the annual dues pay for all 10 meetings a year! \nTickets:  masslandlords.net/events \nPublic:   Anyone on or off Facebook
URL:https://nwcla.com/event/mind-your-business/
LOCATION:British American Club
CATEGORIES:Topics
ATTACH;FMTTYPE=image/png:https://nwcla.com/wp-content/uploads/2022/01/belaire_PNG.png
END:VEVENT
END:VCALENDAR